BEGIN:VCALENDAR
VERSION:2.0
PRODID:-//Tukios.com/
BEGIN:VEVENT
UID:c2bb9db0-5b46-4c13-9537-cd75f413aafa@www.bryantfuneralga.com
DTSTAMP:20260423T222249Z
DTSTART:20260425T150000Z
DTEND:20260425T160000Z
SUMMARY:Funeral Service
DESCRIPTION:The family will receive friends immediately following the 
	service.
URL:https://www.bryantfuneralga.com/obituaries/anita-nix
LOCATION: 401 East Shotwell Street  Bainbridge GA 39819
GEO:30.9041467;-84.5739524
END:VEVENT
END:VCALENDAR