BEGIN:VCALENDAR
VERSION:2.0
PRODID:-//Tukios.com/
BEGIN:VEVENT
UID:13613861-aff9-4576-96b1-4f97015af78a@www.bryantfuneralga.com
DTSTAMP:20260420T054843Z
DTSTART:20260423T140000Z
DTEND:20260423T150000Z
SUMMARY:Funeral Service
DESCRIPTION:The family will receive friends immediately following the 
	service.
URL:https://www.bryantfuneralga.com/obituaries/janie-cinderella-cindy-whiddon
LOCATION: 105 N Florida St  Bainbridge GA 39817
GEO:30.9062064;-84.5783767
END:VEVENT
END:VCALENDAR